BEGIN:VCALENDAR
VERSION:2.0
PRODID:-//TYPO3/NONSGML Calendarize//EN
BEGIN:VEVENT
UID:calendarize-der-baer-der-nicht-da-war-20260517-1
DTSTAMP:20260318T091047Z
DTSTART:20260517T130000Z
DTEND:20260517T134500Z
SUMMARY:Der Bär\, der nicht da war
DESCRIPTION:Ein Figurentheaterstück nach dem Bilderbuch von Oren Lavie\nG
 astspiel Figurentheater Unterwegs mit Angelika Jedelhauser\nEs war einmal 
 … ein Bär? Absolut ja. Er ist noch ganz neu und weiß noch nicht von si
 ch und von der Welt und wo sein Platz in ihr ist. Also macht er sich auf d
 en Weg\, das herauszufinden. Um ihn herum wächst ein wundersamer Wald und
  hier schließt der Bär eine alte Freundschaft\, begegnet einem pingelige
 n Pinguin und verirrt sich geradeaus in alle Himmelsrichtungen. „Das geh
 ört alles dazu“\, nickt die Schildkröte. Eine skurrile\, philosophisch
 e Wanderung\, die ermutigt\, der Welt offen und neugierig zu begegnen und 
 sich selbst in ihr zu entdecken.\nFür alle ab 4 Jahren
X-ALT-DESC;FMTTYPE=text/html:<p>Ein Figurentheaterstück nach dem Bilderbu
 ch von Oren Lavie</p>\n<p>Gastspiel Figurentheater Unterwegs mit Angelika 
 Jedelhauser</p>\n<p>Es war einmal … ein Bär? Absolut ja. Er ist noch ga
 nz neu und weiß noch nicht von sich und von der Welt und wo sein Platz in
  ihr ist. Also macht er sich auf den Weg\, das herauszufinden. Um ihn heru
 m wächst ein wundersamer Wald und hier schließt der Bär eine alte Freun
 dschaft\, begegnet einem pingeligen Pinguin und verirrt sich geradeaus in 
 alle Himmelsrichtungen. „Das gehört alles dazu“\, nickt die Schildkrö
 te. Eine skurrile\, philosophische Wanderung\, die ermutigt\, der Welt off
 en und neugierig zu begegnen und sich selbst in ihr zu entdecken.</p>\n<p>
 Für alle ab 4 Jahren</p>
LOCATION:
END:VEVENT
END:VCALENDAR
